BEGIN:VCALENDAR
VERSION:2.0
PRODID:-//ChamberMaster//Event Calendar 2.0//EN
METHOD:PUBLISH
X-PUBLISHED-TTL:P3D
REFRESH-INTERVAL:P3D
CALSCALE:GREGORIAN
BEGIN:VEVENT
DTSTART:20260221T013000Z
DTEND:20260221T053000Z
X-MICROSOFT-CDO-ALLDAYEVENT:FALSE
SUMMARY:Champions of Commerce Gala & Annual Meeting 2026
DESCRIPTION:The 2026 Champions of Commerce Gala will be held on February 20\, 2026\, celebrating excellence among our local businesses and organizations.\n\n\n\nWe invite you to register for the gala and enjoy cocktails\, dinner\, awards presentation\, & live music.\n\n\n\nCocktail attire / formal wear\n\n\n\nMaster of Ceremonies: Jeremy Hamel\, Velvetone Productions\n\nEntertainment: Kage Dallas\, 2024 Northwest Country Music Association "Favorite Newcomer" Award WINNER \n\n\n\n\n\nSponsorships are available: To sponsor\, contact Lisa Owens at lisa@puyallupsumnerchamber.com.
X-ALT-DESC;FMTTYPE=text/html:<span style="font-size:12px\;"><span style="font-family:arial\;">The 2026&nbsp\;<a href="https://www.puyallupsumnerchamber.com/champions-of-commerce-gala">Champions of Commerce Gala</a> will be held on February 20\, 2026\, celebrating excellence among our local businesses and organizations.<br />\n<br />\nWe invite you to register for the gala and enjoy cocktails\, dinner\, awards presentation\, &amp\; live music.<br />\n<br />\n<em>Cocktail attire / formal wear</em><br />\n<br />\n<span style="font-size:14px\;"><strong>Master of Ceremonies:</strong> Jeremy Hamel\, Velvetone Productions</span></span></span><br />\n<span style="font-size:14px\;"><span style="font-family:arial\;"><strong>Entertainment:</strong>&nbsp\;</span><!--StartFragment--><span data-olk-copy-source="MessageBody">Kage Dallas\,</span></span><span style="font-size:14px\;"><span data-olk-copy-source="MessageBody">&nbsp\;2024 Northwest Country Music Association &ldquo\;Favorite Newcomer&rdquo\; Award WINNER&nbsp\;</span></span><br />\n<br />\n<br />\n<span style="font-size:12px\;"><span style="font-family:arial\;"><strong>Sponsorships are available:</strong> To sponsor\, contact Lisa Owens at&nbsp\;<a href="mailto:lisa@puyallupsumnerchamber.com?subject=Sponsorship%20inquiry%3A%20Champions%20of%20Commerce">lisa@puyallupsumnerchamber.com</a>.</span></span>\n<h3 style="font-weight: 300\; letter-spacing: 0em\; font-size: 30px\; font-family: Oswald\; line-height: 1.5em\; margin: 0px 0px 24px\; color: rgb(124\, 205\, 213)\; white-space-collapse: preserve\; background-color: rgb(255\, 255\, 255)\;">&nbsp\;</h3>\n
LOCATION:Pioneer Park Pavilion
UID:e.101.12870
SEQUENCE:3
DTSTAMP:20260423T094810Z
URL:http://dev.puyallupsumnerchamber.com/events/details/champions-of-commerce-gala-annual-meeting-2026-12870
END:VEVENT

END:VCALENDAR
